BEGIN:VCALENDAR
VERSION:2.0
PRODID:-//eventon.com NONSGML v1.0//EN
BEGIN:VEVENT
UID:69e734ba17f45
DTSTAMP:20260421T082634
DTSTART:20230618
DTEND:20230622
TZID:Asia/Calcutta
LOCATION:
SUMMARY:Faculty Development Program on Blockchain Technology for Next-Generation Applications
DESCRIPTION: \nhttps://algobharat.in/events/faculty-development-program-on-blockchain-technology-for-next-generation-applications/
URL:https://algobharat.in/events/faculty-development-program-on-blockchain-technology-for-next-generation-applications/
END:VEVENT
END:VCALENDAR