BEGIN:VCALENDAR
VERSION:2.0
PRODID:-//eventon.com NONSGML v1.0//EN
BEGIN:VEVENT
UID:69e5ff120dccc
DTSTAMP:20260420T102522
DTSTART:20241106T113000Z
DTEND:20241106T113000Z
TZID:Asia/Calcutta
LOCATION:
SUMMARY:AlgoBharat Creating Impact! Pitch Competition -- Deadline for Detailed Project Submissions
DESCRIPTION: \nhttps://algobharat.in/events/algobharat-creating-impact-pitch-competition-deadline-for-detailed-project-submissions/
URL:https://algobharat.in/events/algobharat-creating-impact-pitch-competition-deadline-for-detailed-project-submissions/
END:VEVENT
END:VCALENDAR